Package: AssessORF Version: 1.25.0 Command: E:\biocbuild\bbs-3.21-bioc\R\bin\R.exe CMD INSTALL AssessORF StartedAt: 2025-02-20 15:47:30 -0500 (Thu, 20 Feb 2025) EndedAt: 2025-02-20 15:47:52 -0500 (Thu, 20 Feb 2025) EllapsedTime: 22.4 seconds RetCode: 0 Status: OK