Package: AssessORF Version: 1.25.0 Command: chmod a+r AssessORF -R && E:\biocbuild\bbs-3.21-bioc\R\bin\R.exe CMD build --keep-empty-dirs --no-resave-data AssessORF StartedAt: 2025-02-19 17:17:09 -0500 (Wed, 19 Feb 2025) EndedAt: 2025-02-19 17:18:36 -0500 (Wed, 19 Feb 2025) EllapsedTime: 86.6 seconds RetCode: 0 Status: OK PackageFile: AssessORF_1.25.0.tar.gz PackageFileSize: 4.702 MiB