Package: ArrayExpress Version: 1.67.0 Command: /Library/Frameworks/R.framework/Resources/bin/R CMD INSTALL ArrayExpress StartedAt: 2025-02-21 15:07:43 -0500 (Fri, 21 Feb 2025) EndedAt: 2025-02-21 15:07:43 -0500 (Fri, 21 Feb 2025) EllapsedTime: 0.1 seconds RetCode: 1 Status: ERROR