Package: AnnotationHubData Version: 1.37.0 Command: E:\biocbuild\bbs-3.21-bioc\R\bin\R.exe CMD check --no-multiarch --install=check:AnnotationHubData.install-out.txt --library=E:\biocbuild\bbs-3.21-bioc\R\library --no-vignettes --timings AnnotationHubData_1.37.0.tar.gz StartedAt: 2025-02-19 22:36:48 -0500 (Wed, 19 Feb 2025) EndedAt: 2025-02-19 22:48:19 -0500 (Wed, 19 Feb 2025) EllapsedTime: 690.6 seconds RetCode: 0 Status: WARNINGS CheckDir: AnnotationHubData.Rcheck Warnings: 1