Package: AnnotationHubData Version: 1.37.0 Command: /home/biocbuild/bbs-3.21-bioc/R/bin/R CMD check --install=check:AnnotationHubData.install-out.txt --library=/home/biocbuild/bbs-3.21-bioc/R/site-library --timings AnnotationHubData_1.37.0.tar.gz StartedAt: 2025-02-19 19:56:53 -0500 (Wed, 19 Feb 2025) EndedAt: 2025-02-19 20:05:10 -0500 (Wed, 19 Feb 2025) EllapsedTime: 496.9 seconds RetCode: 0 Status: WARNINGS CheckDir: AnnotationHubData.Rcheck Warnings: 1