Package: AnnotationHub Version: 3.15.0 Command: /Library/Frameworks/R.framework/Resources/bin/R CMD check --install=check:AnnotationHub.install-out.txt --library=/Library/Frameworks/R.framework/Resources/library --no-vignettes --timings AnnotationHub_3.15.0.tar.gz StartedAt: 2025-02-17 18:47:46 -0500 (Mon, 17 Feb 2025) EndedAt: 2025-02-17 18:52:32 -0500 (Mon, 17 Feb 2025) EllapsedTime: 286.7 seconds RetCode: 0 Status: OK CheckDir: AnnotationHub.Rcheck Warnings: 0