Package: AnnotationForge Version: 1.49.0 Command: /Library/Frameworks/R.framework/Resources/bin/R CMD INSTALL AnnotationForge StartedAt: 2025-02-18 15:14:10 -0500 (Tue, 18 Feb 2025) EndedAt: 2025-02-18 15:14:35 -0500 (Tue, 18 Feb 2025) EllapsedTime: 24.5 seconds RetCode: 0 Status: OK