Back to Multiple platform build/check report for BioC 3.21:   simplified   long
[A]BCDEFGHIJKLMNOPQRSTUVWXYZ

This page was generated on 2025-02-18 11:37 -0500 (Tue, 18 Feb 2025).

HostnameOSArch (*)R versionInstalled pkgs
nebbiolo1Linux (Ubuntu 24.04.1 LTS)x86_64R Under development (unstable) (2025-01-20 r87609) -- "Unsuffered Consequences" 4720
palomino7Windows Server 2022 Datacenterx64R Under development (unstable) (2025-01-21 r87610 ucrt) -- "Unsuffered Consequences" 4482
lconwaymacOS 12.7.1 Montereyx86_64R Under development (unstable) (2025-01-22 r87618) -- "Unsuffered Consequences" 4493
kjohnson3macOS 13.7.1 Venturaarm64R Under development (unstable) (2025-01-20 r87609) -- "Unsuffered Consequences" 4446
Click on any hostname to see more info about the system (e.g. compilers)      (*) as reported by 'uname -p', except on Windows and Mac OS X

All results for package AnnotationFilter


To the developers/maintainers of the AnnotationFilter package:
- Allow up to 24 hours (and sometimes 48 hours) for your latest push to git@git.bioconductor.org:packages/AnnotationFilter.git to reflect on this report. See Troubleshooting Build Report for more information.
- Use the following Renviron settings to reproduce errors and warnings.
- If 'R CMD check' started to fail recently on the Linux builder(s) over a missing dependency, add the missing dependency to 'Suggests:' in your DESCRIPTION file. See Renviron.bioc for more information.

raw results

Package 72/2295HostnameOS / ArchINSTALLBUILDCHECKBUILD BIN
AnnotationFilter 1.31.0  (landing page)
Bioconductor Package Maintainer
Snapshot Date: 2025-02-17 13:40 -0500 (Mon, 17 Feb 2025)
git_url: https://git.bioconductor.org/packages/AnnotationFilter
git_branch: devel
git_last_commit: 164eaea
git_last_commit_date: 2024-10-29 10:18:26 -0500 (Tue, 29 Oct 2024)
nebbiolo1Linux (Ubuntu 24.04.1 LTS) / x86_64  OK    OK    OK  UNNEEDED, same version is already published
palomino7Windows Server 2022 Datacenter / x64  OK    OK    OK    OK  UNNEEDED, same version is already published
lconwaymacOS 12.7.1 Monterey / x86_64  OK    OK    OK    OK  UNNEEDED, same version is already published
kjohnson3macOS 13.7.1 Ventura / arm64  OK    OK    OK    OK  UNNEEDED, same version is already published



Results for Bioconductor software packages that depend directly on package AnnotationFilter

QUICK STATSOS / ArchINSTALLBUILDCHECKBUILD BIN
nebbiolo1Linux (Ubuntu 24.04.1 LTS) / x86_64
0014
0113
00310
palomino7Windows Server 2022 Datacenter / x64
0013
0112
0039
0012
lconwaymacOS 12.7.1 Monterey / x86_64
0014
0113
00310
0013
kjohnson3macOS 13.7.1 Ventura / arm64
0014
0113
00310
0013
Package 1/14HostnameOS / ArchINSTALLBUILDCHECKBUILD BIN
biovizBase 1.55.0  (landing page)
Michael Lawrence
git_last_commit: 85d7c94
git_last_commit_date: 2024-10-29 09:38:40 -0500
nebbiolo1Linux (Ubuntu 24.04.1 LTS) / x86_64  OK    OK    WARNINGS  UNNEEDED, same version is already published
palomino7Windows Server 2022 Datacenter / x64  OK    OK    WARNINGS    OK  UNNEEDED, same version is already published
lconwaymacOS 12.7.1 Monterey / x86_64  OK    OK    WARNINGS    OK  UNNEEDED, same version is already published
kjohnson3macOS 13.7.1 Ventura / arm64  OK    OK    WARNINGS    OK  UNNEEDED, same version is already published
Package 2/14HostnameOS / ArchINSTALLBUILDCHECKBUILD BIN
BUSpaRse 1.21.0  (landing page)
Lambda Moses
git_last_commit: 0e32057
git_last_commit_date: 2024-10-29 19:12:35 -0500
nebbiolo1Linux (Ubuntu 24.04.1 LTS) / x86_64  OK    ERROR  skipped
palomino7Windows Server 2022 Datacenter / x64  OK    ERROR  skippedskipped
lconwaymacOS 12.7.1 Monterey / x86_64  OK    ERROR  skippedskipped
kjohnson3macOS 13.7.1 Ventura / arm64  OK    ERROR  skippedskipped
Package 3/14HostnameOS / ArchINSTALLBUILDCHECKBUILD BIN
chimeraviz 1.33.0  (landing page)
Stian Lågstad
git_last_commit: 3819c30
git_last_commit_date: 2024-10-29 10:15:57 -0500
nebbiolo1Linux (Ubuntu 24.04.1 LTS) / x86_64  OK    OK    OK  UNNEEDED, same version is already published
palomino7Windows Server 2022 Datacenter / x64  OK    OK    OK    OK  UNNEEDED, same version is already published
lconwaymacOS 12.7.1 Monterey / x86_64  OK    OK    OK    OK  UNNEEDED, same version is already published
kjohnson3macOS 13.7.1 Ventura / arm64  OK    OK    OK    OK  UNNEEDED, same version is already published
Package 4/14HostnameOS / ArchINSTALLBUILDCHECKBUILD BIN
CleanUpRNAseq 1.1.1  (landing page)
Haibo Liu
git_last_commit: dac4dc8
git_last_commit_date: 2024-11-19 11:28:36 -0500
nebbiolo1Linux (Ubuntu 24.04.1 LTS) / x86_64  OK    OK    OK  UNNEEDED, same version is already published
palomino7Windows Server 2022 Datacenter / x64  OK    OK    OK    OK  NO, package depends on 'DESeq2' which is only available as a source package that needs compilation
lconwaymacOS 12.7.1 Monterey / x86_64  OK    OK    OK    OK  NO, package depends on 'DESeq2' which is only available as a source package that needs compilation
kjohnson3macOS 13.7.1 Ventura / arm64  OK    OK    OK    OK  NO, package depends on 'DESeq2' which is only available as a source package that needs compilation
Package 5/14HostnameOS / ArchINSTALLBUILDCHECKBUILD BIN
CompoundDb 1.11.2  (landing page)
Johannes Rainer
git_last_commit: 6421537
git_last_commit_date: 2025-01-17 03:25:26 -0500
nebbiolo1Linux (Ubuntu 24.04.1 LTS) / x86_64  OK    OK    OK  UNNEEDED, same version is already published
palomino7Windows Server 2022 Datacenter / x64  OK    OK    OK    OK  UNNEEDED, same version is already published
lconwaymacOS 12.7.1 Monterey / x86_64  OK    OK    OK    OK  UNNEEDED, same version is already published
kjohnson3macOS 13.7.1 Ventura / arm64  OK    OK    OK    OK  UNNEEDED, same version is already published
Package 6/14HostnameOS / ArchINSTALLBUILDCHECKBUILD BIN
drugTargetInteractions 1.15.0  (landing page)
Thomas Girke
git_last_commit: 262cba9
git_last_commit_date: 2024-10-29 10:57:32 -0500
nebbiolo1Linux (Ubuntu 24.04.1 LTS) / x86_64  OK    OK    OK  UNNEEDED, same version is already published
palomino7Windows Server 2022 Datacenter / x64  OK    OK    OK    OK  UNNEEDED, same version is already published
lconwaymacOS 12.7.1 Monterey / x86_64  OK    OK    OK    OK  UNNEEDED, same version is already published
kjohnson3macOS 13.7.1 Ventura / arm64  OK    OK    OK    OK  UNNEEDED, same version is already published
Package 7/14HostnameOS / ArchINSTALLBUILDCHECKBUILD BIN
ensembldb 2.31.0  (landing page)
Johannes Rainer
git_last_commit: 9c06161
git_last_commit_date: 2024-10-29 09:59:38 -0500
nebbiolo1Linux (Ubuntu 24.04.1 LTS) / x86_64  OK    OK    OK  UNNEEDED, same version is already published
palomino7Windows Server 2022 Datacenter / x64  OK    OK    OK    OK  UNNEEDED, same version is already published
lconwaymacOS 12.7.1 Monterey / x86_64  OK    OK    OK    OK  UNNEEDED, same version is already published
kjohnson3macOS 13.7.1 Ventura / arm64  OK    OK    OK    OK  UNNEEDED, same version is already published
Package 8/14HostnameOS / ArchINSTALLBUILDCHECKBUILD BIN
ggbio 1.55.0  (landing page)
Michael Lawrence
git_last_commit: 289a36c
git_last_commit_date: 2024-10-29 09:39:07 -0500
nebbiolo1Linux (Ubuntu 24.04.1 LTS) / x86_64  OK    OK    WARNINGS  UNNEEDED, same version is already published
palomino7Windows Server 2022 Datacenter / x64  OK    OK    WARNINGS    OK  UNNEEDED, same version is already published
lconwaymacOS 12.7.1 Monterey / x86_64  OK    OK    WARNINGS    OK  UNNEEDED, same version is already published
kjohnson3macOS 13.7.1 Ventura / arm64  OK    OK    WARNINGS    OK  UNNEEDED, same version is already published
Package 9/14HostnameOS / ArchINSTALLBUILDCHECKBUILD BIN
Organism.dplyr 1.35.0  (landing page)
Martin Morgan
git_last_commit: 0892992
git_last_commit_date: 2024-10-29 10:17:41 -0500
nebbiolo1Linux (Ubuntu 24.04.1 LTS) / x86_64  OK    OK    OK  UNNEEDED, same version is already published
palomino7Windows Server 2022 Datacenter / x64  OK    OK    OK    OK  UNNEEDED, same version is already published
lconwaymacOS 12.7.1 Monterey / x86_64  OK    OK    OK    OK  UNNEEDED, same version is already published
kjohnson3macOS 13.7.1 Ventura / arm64  OK    OK    OK    OK  UNNEEDED, same version is already published
Package 10/14HostnameOS / ArchINSTALLBUILDCHECKBUILD BIN
QFeatures 1.17.2  (landing page)
Laurent Gatto
git_last_commit: 84d3099
git_last_commit_date: 2025-02-07 14:29:19 -0500
nebbiolo1Linux (Ubuntu 24.04.1 LTS) / x86_64  OK    OK    OK  UNNEEDED, same version is already published
palomino7Windows Server 2022 Datacenter / x64  OK    OK    OK    OK  UNNEEDED, same version is already published
lconwaymacOS 12.7.1 Monterey / x86_64  OK    OK    OK    OK  UNNEEDED, same version is already published
kjohnson3macOS 13.7.1 Ventura / arm64  OK    OK    OK    OK  UNNEEDED, same version is already published
Package 11/14HostnameOS / ArchINSTALLBUILDCHECKBUILD BIN
RAIDS 1.5.0  (landing page)
Pascal Belleau
git_last_commit: bb243c9
git_last_commit_date: 2024-10-29 11:24:12 -0500
nebbiolo1Linux (Ubuntu 24.04.1 LTS) / x86_64  OK    OK    OK  UNNEEDED, same version is already published
palomino7Windows Server 2022 Datacenter / x64  OK    OK    OK    OK  UNNEEDED, same version is already published
lconwaymacOS 12.7.1 Monterey / x86_64  OK    OK    OK    OK  UNNEEDED, same version is already published
kjohnson3macOS 13.7.1 Ventura / arm64  OK    OK    OK    OK  UNNEEDED, same version is already published
Package 12/14HostnameOS / ArchINSTALLBUILDCHECKBUILD BIN
RITAN 1.31.0  (landing page)
Michael Zimmermann
git_last_commit: e6e8dc4
git_last_commit_date: 2024-10-29 10:19:32 -0500
nebbiolo1Linux (Ubuntu 24.04.1 LTS) / x86_64  OK    OK    WARNINGS  UNNEEDED, same version is already published
palomino7Windows Server 2022 Datacenter / x64  OK    OK    WARNINGS    OK  UNNEEDED, same version is already published
lconwaymacOS 12.7.1 Monterey / x86_64  OK    OK    WARNINGS    OK  UNNEEDED, same version is already published
kjohnson3macOS 13.7.1 Ventura / arm64  OK    OK    WARNINGS    OK  UNNEEDED, same version is already published
Package 13/14HostnameOS / ArchINSTALLBUILDCHECKBUILD BIN
scanMiRApp 1.13.0  (landing page)
Pierre-Luc Germain
git_last_commit: 09a6f91
git_last_commit_date: 2024-10-29 11:02:47 -0500
nebbiolo1Linux (Ubuntu 24.04.1 LTS) / x86_64  OK    OK    OK  UNNEEDED, same version is already published
palomino7Windows Server 2022 Datacenter / x64  OK    OK    OK    OK  UNNEEDED, same version is already published
lconwaymacOS 12.7.1 Monterey / x86_64  OK    OK    OK    OK  UNNEEDED, same version is already published
kjohnson3macOS 13.7.1 Ventura / arm64  OK    OK    OK    OK  UNNEEDED, same version is already published
Package 14/14HostnameOS / ArchINSTALLBUILDCHECKBUILD BIN
TVTB 1.33.0  (landing page)
Kevin Rue-Albrecht
git_last_commit: 9b5085b
git_last_commit_date: 2024-10-29 10:15:23 -0500
nebbiolo1Linux (Ubuntu 24.04.1 LTS) / x86_64  OK    OK    OK  UNNEEDED, same version is already published
palomino7Windows Server 2022 Datacenter / x64... NOT SUPPORTED ...
lconwaymacOS 12.7.1 Monterey / x86_64  OK    OK    OK    OK  UNNEEDED, same version is already published
kjohnson3macOS 13.7.1 Ventura / arm64  OK    OK    OK    OK  UNNEEDED, same version is already published