Package: AnnotationDbi Version: 1.69.0 Command: E:\biocbuild\bbs-3.21-bioc\R\bin\R.exe CMD check --no-multiarch --install=check:AnnotationDbi.install-out.txt --library=E:\biocbuild\bbs-3.21-bioc\R\library --no-vignettes --timings AnnotationDbi_1.69.0.tar.gz StartedAt: 2025-02-20 22:46:27 -0500 (Thu, 20 Feb 2025) EndedAt: 2025-02-20 22:55:28 -0500 (Thu, 20 Feb 2025) EllapsedTime: 540.4 seconds RetCode: 0 Status: WARNINGS CheckDir: AnnotationDbi.Rcheck Warnings: 1