Package: AnnotationDbi Version: 1.69.0 Command: /Library/Frameworks/R.framework/Resources/bin/R CMD build --keep-empty-dirs --no-resave-data AnnotationDbi StartedAt: 2025-02-20 15:51:53 -0500 (Thu, 20 Feb 2025) EndedAt: 2025-02-20 15:53:08 -0500 (Thu, 20 Feb 2025) EllapsedTime: 74.4 seconds RetCode: 0 Status: OK PackageFile: AnnotationDbi_1.69.0.tar.gz PackageFileSize: 4.171 MiB