Package: AnnotationDbi Version: 1.69.0 Command: /Library/Frameworks/R.framework/Resources/bin/R CMD INSTALL AnnotationDbi StartedAt: 2025-02-20 15:07:04 -0500 (Thu, 20 Feb 2025) EndedAt: 2025-02-20 15:07:11 -0500 (Thu, 20 Feb 2025) EllapsedTime: 7.4 seconds RetCode: 0 Status: OK