Package: AneuFinder Version: 1.35.0 Command: /Library/Frameworks/R.framework/Resources/bin/R CMD build --keep-empty-dirs --no-resave-data AneuFinder StartedAt: 2025-02-20 15:51:47 -0500 (Thu, 20 Feb 2025) EndedAt: 2025-02-20 15:51:51 -0500 (Thu, 20 Feb 2025) EllapsedTime: 3.5 seconds RetCode: 1 Status: ERROR PackageFile: None PackageFileSize: NA