Package: Anaquin Version: 2.31.0 Command: E:\biocbuild\bbs-3.21-bioc\R\bin\R.exe CMD INSTALL Anaquin StartedAt: 2025-02-20 16:07:01 -0500 (Thu, 20 Feb 2025) EndedAt: 2025-02-20 16:07:13 -0500 (Thu, 20 Feb 2025) EllapsedTime: 11.9 seconds RetCode: 0 Status: OK