Package: Anaquin Version: 2.31.0 Command: /home/biocbuild/bbs-3.21-bioc/R/bin/R CMD INSTALL Anaquin StartedAt: 2025-02-20 15:31:00 -0500 (Thu, 20 Feb 2025) EndedAt: 2025-02-20 15:31:04 -0500 (Thu, 20 Feb 2025) EllapsedTime: 4.3 seconds RetCode: 0 Status: OK