Package: Anaquin Version: 2.31.0 Command: /home/biocbuild/bbs-3.21-bioc/R/bin/R CMD check --install=check:Anaquin.install-out.txt --library=/home/biocbuild/bbs-3.21-bioc/R/site-library --timings Anaquin_2.31.0.tar.gz StartedAt: 2025-02-20 19:57:02 -0500 (Thu, 20 Feb 2025) EndedAt: 2025-02-20 19:58:13 -0500 (Thu, 20 Feb 2025) EllapsedTime: 71.1 seconds RetCode: 0 Status: OK CheckDir: Anaquin.Rcheck Warnings: 0