Package: Anaquin Version: 2.31.0 Command: /Library/Frameworks/R.framework/Resources/bin/R CMD check --install=check:Anaquin.install-out.txt --library=/Library/Frameworks/R.framework/Resources/library --no-vignettes --timings Anaquin_2.31.0.tar.gz StartedAt: 2025-02-20 18:49:04 -0500 (Thu, 20 Feb 2025) EndedAt: 2025-02-20 18:50:16 -0500 (Thu, 20 Feb 2025) EllapsedTime: 72.3 seconds RetCode: 0 Status: OK CheckDir: Anaquin.Rcheck Warnings: 0