Package: Anaquin Version: 2.31.0 Command: /Library/Frameworks/R.framework/Resources/bin/R CMD build --keep-empty-dirs --no-resave-data Anaquin StartedAt: 2025-02-20 15:51:36 -0500 (Thu, 20 Feb 2025) EndedAt: 2025-02-20 15:52:05 -0500 (Thu, 20 Feb 2025) EllapsedTime: 28.7 seconds RetCode: 0 Status: OK PackageFile: Anaquin_2.31.0.tar.gz PackageFileSize: 452.2 KiB