Package: Anaquin Version: 2.31.0 Command: rm -rf Anaquin.buildbin-libdir && mkdir Anaquin.buildbin-libdir && /Users/biocbuild/BBS/utils/build-universal.sh Anaquin_2.31.0.tar.gz /Library/Frameworks/R.framework/Resources/bin/R Anaquin.buildbin-libdir StartedAt: 2025-02-21 00:18:55 -0500 (Fri, 21 Feb 2025) EndedAt: 2025-02-21 00:19:05 -0500 (Fri, 21 Feb 2025) EllapsedTime: 9.4 seconds RetCode: 0 Status: OK PackageFile: Anaquin_2.31.0.tgz PackageFileSize: 456.6 KiB