Package: Anaquin Version: 2.31.0 Command: /Library/Frameworks/R.framework/Resources/bin/R CMD INSTALL Anaquin StartedAt: 2025-02-20 15:08:26 -0500 (Thu, 20 Feb 2025) EndedAt: 2025-02-20 15:08:29 -0500 (Thu, 20 Feb 2025) EllapsedTime: 2.7 seconds RetCode: 0 Status: OK