Package: AnVILWorkflow Version: 1.7.4 Command: E:\biocbuild\bbs-3.21-bioc\R\bin\R.exe CMD INSTALL AnVILWorkflow StartedAt: 2025-02-19 16:19:08 -0500 (Wed, 19 Feb 2025) EndedAt: 2025-02-19 16:19:30 -0500 (Wed, 19 Feb 2025) EllapsedTime: 22.1 seconds RetCode: 0 Status: OK