Package: AnVILWorkflow Version: 1.7.4 Command: E:\biocbuild\bbs-3.21-bioc\R\bin\R.exe CMD check --no-multiarch --install=check:AnVILWorkflow.install-out.txt --library=E:\biocbuild\bbs-3.21-bioc\R\library --no-vignettes --timings AnVILWorkflow_1.7.4.tar.gz StartedAt: 2025-02-18 22:34:45 -0500 (Tue, 18 Feb 2025) EndedAt: 2025-02-18 22:35:35 -0500 (Tue, 18 Feb 2025) EllapsedTime: 50.8 seconds RetCode: 0 Status: OK CheckDir: AnVILWorkflow.Rcheck Warnings: 0