Package: AnVILWorkflow Version: 1.7.4 Command: /Library/Frameworks/R.framework/Resources/bin/R CMD build --keep-empty-dirs --no-resave-data AnVILWorkflow StartedAt: 2025-02-19 15:52:53 -0500 (Wed, 19 Feb 2025) EndedAt: 2025-02-19 15:53:08 -0500 (Wed, 19 Feb 2025) EllapsedTime: 16.0 seconds RetCode: 0 Status: OK PackageFile: AnVILWorkflow_1.7.4.tar.gz PackageFileSize: 1.117 MiB