Package: AnVILWorkflow Version: 1.7.4 Command: rm -rf AnVILWorkflow.buildbin-libdir && mkdir AnVILWorkflow.buildbin-libdir && /Users/biocbuild/BBS/utils/build-universal.sh AnVILWorkflow_1.7.4.tar.gz /Library/Frameworks/R.framework/Resources/bin/R AnVILWorkflow.buildbin-libdir StartedAt: 2025-02-20 00:20:36 -0500 (Thu, 20 Feb 2025) EndedAt: 2025-02-20 00:20:46 -0500 (Thu, 20 Feb 2025) EllapsedTime: 9.4 seconds RetCode: 0 Status: OK PackageFile: AnVILWorkflow_1.7.4.tgz PackageFileSize: 1.016 MiB