Package: AnVILWorkflow Version: 1.7.4 Command: /Library/Frameworks/R.framework/Resources/bin/R CMD INSTALL AnVILWorkflow StartedAt: 2025-02-19 15:17:27 -0500 (Wed, 19 Feb 2025) EndedAt: 2025-02-19 15:17:29 -0500 (Wed, 19 Feb 2025) EllapsedTime: 2.2 seconds RetCode: 0 Status: OK