Package: AnVILWorkflow Version: 1.7.4 Maintainer: Sehyun Oh MaintainerEmail: shbrief at gmail.com git_url: https://git.bioconductor.org/packages/AnVILWorkflow git_branch: devel git_last_commit: ec32a08 git_last_commit_date: 2025-02-17 09:29:07 -0500 (Mon, 17 Feb 2025)