Package: AnVILGCP Version: 1.1.3 Command: /Library/Frameworks/R.framework/Resources/bin/R CMD build --keep-empty-dirs --no-resave-data AnVILGCP StartedAt: 2025-02-19 15:52:50 -0500 (Wed, 19 Feb 2025) EndedAt: 2025-02-19 15:53:06 -0500 (Wed, 19 Feb 2025) EllapsedTime: 16.0 seconds RetCode: 0 Status: OK PackageFile: AnVILGCP_1.1.3.tar.gz PackageFileSize: 416.4 KiB