Package: AnVILGCP Version: 1.1.3 Command: /home/biocbuild/R/R/bin/R CMD check --install=check:AnVILGCP.install-out.txt --library=/home/biocbuild/R/R/site-library --no-vignettes --timings AnVILGCP_1.1.3.tar.gz StartedAt: 2025-01-28 03:34:07 -0000 (Tue, 28 Jan 2025) EndedAt: 2025-01-28 03:34:46 -0000 (Tue, 28 Jan 2025) EllapsedTime: 39.1 seconds RetCode: 0 Status: OK CheckDir: AnVILGCP.Rcheck Warnings: 0