Package: AnVILGCP Version: 1.1.3 Command: /Library/Frameworks/R.framework/Resources/bin/R CMD INSTALL AnVILGCP StartedAt: 2025-02-19 15:03:51 -0500 (Wed, 19 Feb 2025) EndedAt: 2025-02-19 15:03:54 -0500 (Wed, 19 Feb 2025) EllapsedTime: 2.9 seconds RetCode: 0 Status: OK