Package: AnVILGCP Version: 1.1.3 Command: rm -rf AnVILGCP.buildbin-libdir && mkdir AnVILGCP.buildbin-libdir && /Users/biocbuild/BBS/utils/build-universal.sh AnVILGCP_1.1.3.tar.gz /Library/Frameworks/R.framework/Resources/bin/R AnVILGCP.buildbin-libdir StartedAt: 2025-02-19 22:13:23 -0500 (Wed, 19 Feb 2025) EndedAt: 2025-02-19 22:13:26 -0500 (Wed, 19 Feb 2025) EllapsedTime: 3.1 seconds RetCode: 0 Status: OK PackageFile: AnVILGCP_1.1.3.tgz PackageFileSize: 469.6 KiB