Package: AnVILBilling Version: 1.17.0 Command: rm -rf AnVILBilling.buildbin-libdir && mkdir AnVILBilling.buildbin-libdir && E:\biocbuild\bbs-3.21-bioc\R\bin\R.exe CMD INSTALL --build --library=AnVILBilling.buildbin-libdir AnVILBilling_1.17.0.tar.gz StartedAt: 2025-02-20 07:15:42 -0500 (Thu, 20 Feb 2025) EndedAt: 2025-02-20 07:16:12 -0500 (Thu, 20 Feb 2025) EllapsedTime: 30.5 seconds RetCode: 0 Status: OK PackageFile: AnVILBilling_1.17.0.zip PackageFileSize: 746.8 KiB