Package: AnVILBilling Version: 1.17.0 Command: /home/biocbuild/bbs-3.21-bioc/R/bin/R CMD build --keep-empty-dirs --no-resave-data AnVILBilling StartedAt: 2025-02-19 16:08:15 -0500 (Wed, 19 Feb 2025) EndedAt: 2025-02-19 16:08:27 -0500 (Wed, 19 Feb 2025) EllapsedTime: 12.0 seconds RetCode: 0 Status: OK PackageFile: AnVILBilling_1.17.0.tar.gz PackageFileSize: 1.006 MiB