Package: AnVILBilling Version: 1.17.0 Command: /Library/Frameworks/R.framework/Resources/bin/R CMD INSTALL AnVILBilling StartedAt: 2025-02-19 15:26:59 -0500 (Wed, 19 Feb 2025) EndedAt: 2025-02-19 15:27:10 -0500 (Wed, 19 Feb 2025) EllapsedTime: 11.1 seconds RetCode: 0 Status: OK