Package: AnVILBilling Version: 1.17.0 Command: /Library/Frameworks/R.framework/Resources/bin/R CMD check --install=check:AnVILBilling.install-out.txt --library=/Library/Frameworks/R.framework/Resources/library --no-vignettes --timings AnVILBilling_1.17.0.tar.gz StartedAt: 2025-02-20 18:03:28 -0500 (Thu, 20 Feb 2025) EndedAt: 2025-02-20 18:03:50 -0500 (Thu, 20 Feb 2025) EllapsedTime: 22.3 seconds RetCode: 0 Status: OK CheckDir: AnVILBilling.Rcheck Warnings: 0