Package: AnVILBase Version: 1.1.0 Command: chmod a+r AnVILBase -R && E:\biocbuild\bbs-3.21-bioc\R\bin\R.exe CMD build --keep-empty-dirs --no-resave-data AnVILBase StartedAt: 2025-02-19 17:14:59 -0500 (Wed, 19 Feb 2025) EndedAt: 2025-02-19 17:15:34 -0500 (Wed, 19 Feb 2025) EllapsedTime: 34.8 seconds RetCode: 0 Status: OK PackageFile: AnVILBase_1.1.0.tar.gz PackageFileSize: 227.9 KiB