Package: AnVILBase Version: 1.1.0 Command: /home/biocbuild/bbs-3.21-bioc/R/bin/R CMD build --keep-empty-dirs --no-resave-data AnVILBase StartedAt: 2025-02-19 16:08:13 -0500 (Wed, 19 Feb 2025) EndedAt: 2025-02-19 16:08:19 -0500 (Wed, 19 Feb 2025) EllapsedTime: 6.0 seconds RetCode: 0 Status: OK PackageFile: AnVILBase_1.1.0.tar.gz PackageFileSize: 227.9 KiB