Package: AnVILBase Version: 1.1.0 Command: /Library/Frameworks/R.framework/Resources/bin/R CMD INSTALL AnVILBase StartedAt: 2025-02-19 15:07:37 -0500 (Wed, 19 Feb 2025) EndedAt: 2025-02-19 15:08:04 -0500 (Wed, 19 Feb 2025) EllapsedTime: 27.1 seconds RetCode: 0 Status: OK