Package: AnVILBase Version: 1.1.0 Command: /Library/Frameworks/R.framework/Resources/bin/R CMD check --install=check:AnVILBase.install-out.txt --library=/Library/Frameworks/R.framework/Resources/library --no-vignettes --timings AnVILBase_1.1.0.tar.gz StartedAt: 2025-02-19 18:51:17 -0500 (Wed, 19 Feb 2025) EndedAt: 2025-02-19 18:51:56 -0500 (Wed, 19 Feb 2025) EllapsedTime: 39.0 seconds RetCode: 0 Status: OK CheckDir: AnVILBase.Rcheck Warnings: 0