Package: AnVILAz Version: 1.1.0 Command: chmod a+r AnVILAz -R && E:\biocbuild\bbs-3.21-bioc\R\bin\R.exe CMD build --keep-empty-dirs --no-resave-data AnVILAz StartedAt: 2025-02-20 17:15:24 -0500 (Thu, 20 Feb 2025) EndedAt: 2025-02-20 17:15:56 -0500 (Thu, 20 Feb 2025) EllapsedTime: 31.6 seconds RetCode: 0 Status: OK PackageFile: AnVILAz_1.1.0.tar.gz PackageFileSize: 826.4 KiB