Package: AnVILAz Version: 1.1.0 Command: rm -rf AnVILAz.buildbin-libdir && mkdir AnVILAz.buildbin-libdir && E:\biocbuild\bbs-3.21-bioc\R\bin\R.exe CMD INSTALL --build --library=AnVILAz.buildbin-libdir AnVILAz_1.1.0.tar.gz StartedAt: 2025-02-20 07:15:38 -0500 (Thu, 20 Feb 2025) EndedAt: 2025-02-20 07:16:08 -0500 (Thu, 20 Feb 2025) EllapsedTime: 29.7 seconds RetCode: 0 Status: OK PackageFile: AnVILAz_1.1.0.zip PackageFileSize: 836 KiB