Package: AnVILAz Version: 1.1.0 Command: /home/biocbuild/R/R/bin/R CMD build --keep-empty-dirs --no-resave-data AnVILAz StartedAt: 2025-01-29 20:50:48 -0000 (Wed, 29 Jan 2025) EndedAt: 2025-01-29 20:50:59 -0000 (Wed, 29 Jan 2025) EllapsedTime: 11.0 seconds RetCode: 0 Status: OK PackageFile: AnVILAz_1.1.0.tar.gz PackageFileSize: 959.6 KiB