Package: AnVIL Version: 1.19.8 Command: E:\biocbuild\bbs-3.21-bioc\R\bin\R.exe CMD INSTALL AnVIL StartedAt: 2025-02-17 15:36:14 -0500 (Mon, 17 Feb 2025) EndedAt: 2025-02-17 15:36:40 -0500 (Mon, 17 Feb 2025) EllapsedTime: 26.2 seconds RetCode: 0 Status: OK