Package: AnVIL Version: 1.19.8 Command: E:\biocbuild\bbs-3.21-bioc\R\bin\R.exe CMD check --no-multiarch --install=check:AnVIL.install-out.txt --library=E:\biocbuild\bbs-3.21-bioc\R\library --no-vignettes --timings AnVIL_1.19.8.tar.gz StartedAt: 2025-02-17 22:29:06 -0500 (Mon, 17 Feb 2025) EndedAt: 2025-02-17 22:30:08 -0500 (Mon, 17 Feb 2025) EllapsedTime: 61.4 seconds RetCode: 0 Status: OK CheckDir: AnVIL.Rcheck Warnings: 0