Package: AnVIL Version: 1.19.8 Command: chmod a+r AnVIL -R && E:\biocbuild\bbs-3.21-bioc\R\bin\R.exe CMD build --keep-empty-dirs --no-resave-data AnVIL StartedAt: 2025-02-17 17:10:11 -0500 (Mon, 17 Feb 2025) EndedAt: 2025-02-17 17:11:15 -0500 (Mon, 17 Feb 2025) EllapsedTime: 64.4 seconds RetCode: 0 Status: OK PackageFile: AnVIL_1.19.8.tar.gz PackageFileSize: 1.192 MiB