Package: AnVIL Version: 1.19.8 Command: rm -rf AnVIL.buildbin-libdir && mkdir AnVIL.buildbin-libdir && E:\biocbuild\bbs-3.21-bioc\R\bin\R.exe CMD INSTALL --build --library=AnVIL.buildbin-libdir AnVIL_1.19.8.tar.gz StartedAt: 2025-02-18 06:49:03 -0500 (Tue, 18 Feb 2025) EndedAt: 2025-02-18 06:49:49 -0500 (Tue, 18 Feb 2025) EllapsedTime: 46.4 seconds RetCode: 0 Status: OK PackageFile: AnVIL_1.19.8.zip PackageFileSize: 1.171 MiB