Package: AnVIL Version: 1.19.8 Command: /Library/Frameworks/R.framework/Resources/bin/R CMD INSTALL AnVIL StartedAt: 2025-02-17 15:15:18 -0500 (Mon, 17 Feb 2025) EndedAt: 2025-02-17 15:15:21 -0500 (Mon, 17 Feb 2025) EllapsedTime: 2.3 seconds RetCode: 0 Status: OK