Package: AlphaMissenseR Version: 1.3.0 Command: E:\biocbuild\bbs-3.21-bioc\R\bin\R.exe CMD check --no-multiarch --install=check:AlphaMissenseR.install-out.txt --library=E:\biocbuild\bbs-3.21-bioc\R\library --no-vignettes --timings AlphaMissenseR_1.3.0.tar.gz StartedAt: 2025-02-20 22:44:01 -0500 (Thu, 20 Feb 2025) EndedAt: 2025-02-20 22:46:16 -0500 (Thu, 20 Feb 2025) EllapsedTime: 134.4 seconds RetCode: 0 Status: OK CheckDir: AlphaMissenseR.Rcheck Warnings: 0