Package: AlphaMissenseR Version: 1.3.0 Command: rm -rf AlphaMissenseR.buildbin-libdir && mkdir AlphaMissenseR.buildbin-libdir && E:\biocbuild\bbs-3.21-bioc\R\bin\R.exe CMD INSTALL --build --library=AlphaMissenseR.buildbin-libdir AlphaMissenseR_1.3.0.tar.gz StartedAt: 2025-02-21 07:31:51 -0500 (Fri, 21 Feb 2025) EndedAt: 2025-02-21 07:32:54 -0500 (Fri, 21 Feb 2025) EllapsedTime: 63.5 seconds RetCode: 0 Status: OK PackageFile: AlphaMissenseR_1.3.0.zip PackageFileSize: 2.591 MiB