Package: AlphaMissenseR Version: 1.3.0 Command: /home/biocbuild/bbs-3.21-bioc/R/bin/R CMD INSTALL AlphaMissenseR StartedAt: 2025-02-20 15:43:05 -0500 (Thu, 20 Feb 2025) EndedAt: 2025-02-20 15:43:06 -0500 (Thu, 20 Feb 2025) EllapsedTime: 1.3 seconds RetCode: 1 Status: ERROR