Package: AlphaMissenseR Version: 1.3.0 Command: /home/biocbuild/bbs-3.21-bioc/R/bin/R CMD check --install=check:AlphaMissenseR.install-out.txt --library=/home/biocbuild/bbs-3.21-bioc/R/site-library --timings AlphaMissenseR_1.3.0.tar.gz StartedAt: 2025-02-18 19:47:56 -0500 (Tue, 18 Feb 2025) EndedAt: 2025-02-18 19:51:28 -0500 (Tue, 18 Feb 2025) EllapsedTime: 211.3 seconds RetCode: 0 Status: OK CheckDir: AlphaMissenseR.Rcheck Warnings: 0