Package: AlphaMissenseR Version: 1.3.0 Command: /home/biocbuild/bbs-3.21-bioc/R/bin/R CMD build --keep-empty-dirs --no-resave-data AlphaMissenseR StartedAt: 2025-02-20 16:25:07 -0500 (Thu, 20 Feb 2025) EndedAt: 2025-02-20 16:48:02 -0500 (Thu, 20 Feb 2025) EllapsedTime: 1375.4 seconds RetCode: 1 Status: ERROR PackageFile: None PackageFileSize: NA